BEGIN:VCALENDAR
VERSION:2.0
PRODID:-//Fundación Alfonso Martín Escudero - ECPv6.15.15//NONSGML v1.0//EN
CALSCALE:GREGORIAN
METHOD:PUBLISH
X-WR-CALNAME:Fundación Alfonso Martín Escudero
X-ORIGINAL-URL:https://fundame.org
X-WR-CALDESC:Eventos para Fundación Alfonso Martín Escudero
REFRESH-INTERVAL;VALUE=DURATION:PT1H
X-Robots-Tag:noindex
X-PUBLISHED-TTL:PT1H
BEGIN:VTIMEZONE
TZID:UTC
BEGIN:STANDARD
TZOFFSETFROM:+0000
TZOFFSETTO:+0000
TZNAME:UTC
DTSTART:20240101T000000
END:STANDARD
END:VTIMEZONE
BEGIN:VEVENT
DTSTART;TZID=UTC:20251120T170000
DTEND;TZID=UTC:20251120T190000
DTSTAMP:20260426T021849
CREATED:20251027T105557Z
LAST-MODIFIED:20251027T105557Z
UID:6692-1763658000-1763665200@fundame.org
SUMMARY:Asamblea General Asociación de Becarios
DESCRIPTION:https://fundame.org/wp/asamblea-general-asociacion-de-becarios-2025/
URL:https://fundame.org/evento/asamblea-general-asociacion-de-becarios/
CATEGORIES:Actualidad,Noticias
ATTACH;FMTTYPE=image/jpeg:https://fundame.org/content/uploads/2022/11/Asociacion.jpg
END:VEVENT
END:VCALENDAR