BEGIN:VCALENDAR
VERSION:2.0
PRODID:-//Fundación Alfonso Martín Escudero - ECPv6.15.15//NONSGML v1.0//EN
CALSCALE:GREGORIAN
METHOD:PUBLISH
X-ORIGINAL-URL:https://fundame.org
X-WR-CALDESC:Eventos para Fundación Alfonso Martín Escudero
REFRESH-INTERVAL;VALUE=DURATION:PT1H
X-Robots-Tag:noindex
X-PUBLISHED-TTL:PT1H
BEGIN:VTIMEZONE
TZID:UTC
BEGIN:STANDARD
TZOFFSETFROM:+0000
TZOFFSETTO:+0000
TZNAME:UTC
DTSTART:20240101T000000
END:STANDARD
END:VTIMEZONE
BEGIN:VEVENT
DTSTART;TZID=UTC:20251016T190000
DTEND;TZID=UTC:20251016T210000
DTSTAMP:20260426T033037
CREATED:20250710T063810Z
LAST-MODIFIED:20251121T080801Z
UID:6546-1760641200-1760648400@fundame.org
SUMMARY:Conferencia de D. Jesús Maraña Marcos
DESCRIPTION:Periodista\, ha ejercido su actividad profesional en distintos medios de comunicación escrita diaria: Informaciones\, Ya\, El Mundo y Público\, donde ocupó el cargo de director. También ha colaborado en revistas de actualidad como Tiempo o Interviú\, así como en medios audiovisuales: Telemadrid\, RTVE y La Sexta. Participa como analista en diferentes medios de comunicación\, es fundador y director de Info-libre y ha realizado varias publicaciones por las que ha recibido un extenso reconocimiento. \nImpartirá la conferencia “EL PODER DE LA DESINFORMACIÓN: CÓMO DEFENDER LA DEMOCRACIA”\, el 16 de octubre de 2025 a las 19:00 h\, en el auditorio de la Fundación\, Avenida de Brasil nº 30\, Madrid. \nLa presentación la realizará D. Roberto Granizo Palomeque\, Procurador de los tribunales\, presidente de la Asociación de Abogados Demócratas Europeos y del Instituto de Mediación Hipotecaria y Financiera. Ha ejercido de profesor en varias universidades y de ponente en varios congresos. Su labor ha sido reconocida con varias condecoraciones. \nEl formato de la conferencia es mixto\, presencial y transmitido en directo desde nuestro canal.
URL:https://fundame.org/evento/conferencia-de-d-jesus-marana-marcos/
LOCATION:Madrid
CATEGORIES:Conferencias
ATTACH;FMTTYPE=image/jpeg:https://fundame.org/content/uploads/2025/07/ciclos-de-conferencias-en-madrid-fundacion-alfonso-escudero-martin.jpg
END:VEVENT
END:VCALENDAR