BEGIN:VCALENDAR
VERSION:2.0
PRODID:-//Fundación Alfonso Martín Escudero - ECPv6.15.15//NONSGML v1.0//EN
CALSCALE:GREGORIAN
METHOD:PUBLISH
X-ORIGINAL-URL:https://fundame.org
X-WR-CALDESC:Eventos para Fundación Alfonso Martín Escudero
REFRESH-INTERVAL;VALUE=DURATION:PT1H
X-Robots-Tag:noindex
X-PUBLISHED-TTL:PT1H
BEGIN:VTIMEZONE
TZID:UTC
BEGIN:STANDARD
TZOFFSETFROM:+0000
TZOFFSETTO:+0000
TZNAME:UTC
DTSTART:20240101T000000
END:STANDARD
END:VTIMEZONE
BEGIN:VEVENT
DTSTART;TZID=UTC:20251127T190000
DTEND;TZID=UTC:20251127T210000
DTSTAMP:20260426T015507
CREATED:20250710T063930Z
LAST-MODIFIED:20260115T102519Z
UID:6548-1764270000-1764277200@fundame.org
SUMMARY:Conferencia de D.ª Mar Carreño Martínez
DESCRIPTION:Médica\, doctora\, formada en la Clínica Universitaria de Navarra y la Clínica Cleveland de Ohio\, en Estados Unidos\, es la directora de la Unidad de Epilepsia del Hospital Clinic de Barcelona. También realiza actividad asistencial en el Instituto AdSalutem y Clavel de Barcelona y en el Instituto Vithas de Madrid. Ponente habitual de congresos internacionales y gran actividad docente e investigadora\, es presidenta de la Sociedad Española de Epilepsia. \nImpartirá la conferencia “LO QUE LA EPILEPSIA NOS HA ENSEÑADO SOBRE EL CEREBRO HUMANO”\, el 27 de noviembre de 2025 a las 19:00 h\, en el auditorio de la Fundación\, Avenida de Brasil nº 30\, Madrid. \nLa presentación la realizará D. Fernando Martín Martín\, médico\, ha trabajado en el Hospital Universitario Puerta de Hierro\, ha sido supervisor de asistencia clínica y profesor asociado. Invitado como ponente en numerosos congresos\, es autor y coordinador de numerosos libros y publicaciones científicas. \nEl formato de la conferencia es mixto\, presencial y transmitido en directo desde nuestro canal. \nEl número de plazas presenciales es limitado. Puede confirmar la asistencia a través del correo electrónico secretaria@fundame.org o en el teléfono 915970514.
URL:https://fundame.org/evento/conferencia-de-d-a-mar-carreno-martinez/
LOCATION:Madrid
CATEGORIES:Conferencias
ATTACH;FMTTYPE=image/jpeg:https://fundame.org/content/uploads/2025/07/ciclos-de-conferencias-en-madrid-fundacion-alfonso-escudero-martin-1.jpg
END:VEVENT
END:VCALENDAR