BEGIN:VCALENDAR
VERSION:2.0
PRODID:-//Fundación Alfonso Martín Escudero - ECPv6.15.15//NONSGML v1.0//EN
CALSCALE:GREGORIAN
METHOD:PUBLISH
X-WR-CALNAME:Fundación Alfonso Martín Escudero
X-ORIGINAL-URL:https://fundame.org
X-WR-CALDESC:Eventos para Fundación Alfonso Martín Escudero
REFRESH-INTERVAL;VALUE=DURATION:PT1H
X-Robots-Tag:noindex
X-PUBLISHED-TTL:PT1H
BEGIN:VTIMEZONE
TZID:UTC
BEGIN:STANDARD
TZOFFSETFROM:+0000
TZOFFSETTO:+0000
TZNAME:UTC
DTSTART:20250101T000000
END:STANDARD
END:VTIMEZONE
BEGIN:VEVENT
DTSTART;TZID=UTC:20260521T190000
DTEND;TZID=UTC:20260521T210000
DTSTAMP:20260425T201035
CREATED:20250721T092526Z
LAST-MODIFIED:20260424T092915Z
UID:6566-1779390000-1779397200@fundame.org
SUMMARY:Conferencia de D. Rolf Tarrach Siegel
DESCRIPTION:Físico experto en teoría cuántica y partículas elementales. Ha sido catedrático en varias universidades españolas\, presidente del CSIC y rector de la Universidad de Luxemburgo. Ha realizado sus trabajos en el CERN de Ginebra y en instituciones científicas de varios países\, entre ellos Francia\, USA\, Rusia\, Dinamarca y Canadá. Ha colaborado extensamente en el asesoramiento y evaluación de la investigación en la UE y en varias universidades europeas. Por sus aportaciones\, publicaciones y conferencias\, ha recibido numerosos reconocimientos. Es académico de la Real Academia de Barcelona y Dr. Honoris causa por varias universidades. \nEl formato de la conferencia es mixto\, presencial y transmitido en directo desde nuestro canal. \nEl número de plazas presenciales es limitado. Puede confirmar la asistencia a través del correo electrónico secretaria@fundame.org o en el teléfono 915970514.
URL:https://fundame.org/evento/conferencia-de-d-rolf-tarrach-siegel/
LOCATION:Auditorio Fundación\, Avenida de Brasil\, 30\, Madrid\, Madrid\, 28020\, Spain
CATEGORIES:Conferencias
END:VEVENT
END:VCALENDAR